BEGIN:VCALENDAR
VERSION:2.0
PRODID:-//TSV Friesen Hänigsen Turnabteilung - ECPv6.15.17.1//NONSGML v1.0//EN
CALSCALE:GREGORIAN
METHOD:PUBLISH
X-ORIGINAL-URL:https://haenigsen-turnen.de
X-WR-CALDESC:Veranstaltungen für TSV Friesen Hänigsen Turnabteilung
REFRESH-INTERVAL;VALUE=DURATION:PT1H
X-Robots-Tag:noindex
X-PUBLISHED-TTL:PT1H
BEGIN:VTIMEZONE
TZID:Europe/Berlin
BEGIN:DAYLIGHT
TZOFFSETFROM:+0100
TZOFFSETTO:+0200
TZNAME:CEST
DTSTART:20230326T010000
END:DAYLIGHT
BEGIN:STANDARD
TZOFFSETFROM:+0200
TZOFFSETTO:+0100
TZNAME:CET
DTSTART:20231029T010000
END:STANDARD
BEGIN:DAYLIGHT
TZOFFSETFROM:+0100
TZOFFSETTO:+0200
TZNAME:CEST
DTSTART:20240331T010000
END:DAYLIGHT
BEGIN:STANDARD
TZOFFSETFROM:+0200
TZOFFSETTO:+0100
TZNAME:CET
DTSTART:20241027T010000
END:STANDARD
BEGIN:DAYLIGHT
TZOFFSETFROM:+0100
TZOFFSETTO:+0200
TZNAME:CEST
DTSTART:20250330T010000
END:DAYLIGHT
BEGIN:STANDARD
TZOFFSETFROM:+0200
TZOFFSETTO:+0100
TZNAME:CET
DTSTART:20251026T010000
END:STANDARD
BEGIN:DAYLIGHT
TZOFFSETFROM:+0100
TZOFFSETTO:+0200
TZNAME:CEST
DTSTART:20260329T010000
END:DAYLIGHT
BEGIN:STANDARD
TZOFFSETFROM:+0200
TZOFFSETTO:+0100
TZNAME:CET
DTSTART:20261025T010000
END:STANDARD
END:VTIMEZONE
BEGIN:VEVENT
DTSTART;VALUE=DATE:20251003
DTEND;VALUE=DATE:20251006
DTSTAMP:20260425T210553
CREATED:20250512T193011Z
LAST-MODIFIED:20250512T193011Z
UID:1456-1759449600-1759708799@haenigsen-turnen.de
SUMMARY:Norddeutsche Meisterschaften in Tarp
DESCRIPTION:
URL:https://haenigsen-turnen.de/event/norddeutsche-meisterschaften-in-tarp/
LOCATION:Tarp\, Tarp\, Germany
END:VEVENT
BEGIN:VEVENT
DTSTART;VALUE=DATE:20250528
DTEND;VALUE=DATE:20250602
DTSTAMP:20260425T210553
CREATED:20240716T141621Z
LAST-MODIFIED:20240716T141621Z
UID:1259-1748390400-1748822399@haenigsen-turnen.de
SUMMARY:Internationales Deutsches Turnfest Leipzig
DESCRIPTION:Wettkampfteilnahme ab TGW-Ebene möglich
URL:https://haenigsen-turnen.de/event/internationales-deutsches-turnfest-leipzig/
LOCATION:Leipzig\, Deutschland
CATEGORIES:Events
END:VEVENT
BEGIN:VEVENT
DTSTART;VALUE=DATE:20250510
DTEND;VALUE=DATE:20250511
DTSTAMP:20260425T210553
CREATED:20240716T143221Z
LAST-MODIFIED:20240716T143221Z
UID:1270-1746835200-1746921599@haenigsen-turnen.de
SUMMARY:Landesmeisterschaften SGW/TGW
DESCRIPTION:Landesmeisterschaften SGW I/ SGW II/ TGW
URL:https://haenigsen-turnen.de/event/landesmeisterschaften-sgw-tgw/
LOCATION:Barbecke
CATEGORIES:Events
END:VEVENT
BEGIN:VEVENT
DTSTART;TZID=Europe/Berlin:20241214T140000
DTEND;TZID=Europe/Berlin:20241214T200000
DTSTAMP:20260425T210553
CREATED:20240716T140809Z
LAST-MODIFIED:20240716T140809Z
UID:1251-1734184800-1734206400@haenigsen-turnen.de
SUMMARY:Weihnachtsturnen 2024
DESCRIPTION:14.12.2024 \n  \nShow 1: Beginn 14:30 Uhr\, Einlass 14:00 Uhr \n  \nShow 2: Beginn 18:00 Uhr\, Einlass 17:30 Uhr
URL:https://haenigsen-turnen.de/event/weihnachtsturnen-2024/
LOCATION:Burgdorf\, Deutschland
CATEGORIES:Events
END:VEVENT
BEGIN:VEVENT
DTSTART;TZID=Europe/Berlin:20241213T170000
DTEND;TZID=Europe/Berlin:20241213T190000
DTSTAMP:20260425T210553
CREATED:20240924T093456Z
LAST-MODIFIED:20240924T093456Z
UID:1389-1734109200-1734116400@haenigsen-turnen.de
SUMMARY:Generalprobe Weihnachtsturnen
DESCRIPTION:
URL:https://haenigsen-turnen.de/event/generalprobe-weihnachtsturnen/
LOCATION:Ballspielhalle Hänigsen\, Deutschland
CATEGORIES:Events
END:VEVENT
BEGIN:VEVENT
DTSTART;VALUE=DATE:20240927
DTEND;VALUE=DATE:20240930
DTSTAMP:20260425T210553
CREATED:20240716T112648Z
LAST-MODIFIED:20240924T092759Z
UID:1243-1727395200-1727654399@haenigsen-turnen.de
SUMMARY:Norddeutsche Meisterschaften SGW/TGW
DESCRIPTION:Gymnasium Tiergarten\nAltonaerstr.2610555 Berlin \n\n\n  \nHansa Grundschule  \nLessingstr. 5 10555 Berlin
URL:https://haenigsen-turnen.de/event/norddeutsche-meisterschaften/
LOCATION:Berlin\, Deutschland
CATEGORIES:Events
END:VEVENT
BEGIN:VEVENT
DTSTART;TZID=Europe/Berlin:20240825T100000
DTEND;TZID=Europe/Berlin:20240825T170000
DTSTAMP:20260425T210553
CREATED:20240716T141815Z
LAST-MODIFIED:20240716T141815Z
UID:1267-1724580000-1724605200@haenigsen-turnen.de
SUMMARY:Techniktraining Wettkampfgruppen
DESCRIPTION:Voranmeldungen über Trainerinnen notwendig
URL:https://haenigsen-turnen.de/event/techniktraining-wettkampfgruppen/
LOCATION:Ballspielhalle Hänigsen\, Deutschland
CATEGORIES:Events
END:VEVENT
END:VCALENDAR